BEGIN:VCALENDAR
VERSION:2.0
PRODID:icalendar-ruby
CALSCALE:GREGORIAN
METHOD:PUBLISH
BEGIN:VEVENT
DTSTAMP:20260422T113726Z
UID:8-484712@covenantrussellville.org
DTSTART:20260913T153000Z
DTEND:20260913T170000Z
CLASS:PUBLIC
CREATED:20260421T201013
DESCRIPTION:
LAST-MODIFIED:20260421T201013
LOCATION:2810 S Knoxville
SUMMARY:Sunday Worship
URL;VALUE=URI:https://covenantrussellville.org/events/sunday-worship--6/202
 6-09-13
ATTACH;FILENAME=sancturary.png;FMTTYPE=image/png:https://dq5pwpg1q8ru0.clou
 dfront.net/2024/06/20/16/50/57/4814afe6-e64e-495c-a4fa-2257e0e9c609/sanctu
 rary.png
END:VEVENT
END:VCALENDAR
